BEGIN:VCALENDAR
VERSION:2.0
PRODID:spatie/icalendar-generator
DESCRIPTION:Events from MASILC
X-WR-CALDESC:Events from MASILC
REFRESH-INTERVAL;VALUE=DURATION:PT1440M
X-PUBLISHED-TTL:PT1440M
BEGIN:VTIMEZONE
TZID:Etc/GMT+0
BEGIN:STANDARD
DTSTART:20230730T133000Z
TZOFFSETFROM:+0000
TZOFFSETTO:+0000
END:STANDARD
END:VTIMEZONE
BEGIN:VTIMEZONE
TZID:UTC
BEGIN:STANDARD
DTSTART:20250726T084449Z
TZOFFSETFROM:+0000
TZOFFSETTO:+0000
END:STANDARD
END:VTIMEZONE
BEGIN:VEVENT
UID:105-66
DTSTAMP:20260422T084449Z
SUMMARY:SPIL Public Hearing
LOCATION:
ORGANIZER;CN=Aliza Levine:MAILTO:alevine@masilc.org
DTSTART;TZID=Etc/GMT+0:20240425T133000
DTEND;TZID=Etc/GMT+0:20240425T150000
X-ALT-DESC;FMTTYPE=TEXT/HTML:This fall we listened to the input of people w
 ith disabilities (along with their families\, friends\, and service provid
 ers) from across Massachusetts to develop the new State Plan for Independe
 nt Living (SPIL). The SPIL is a plan for how the state’s independent liv
 ing programs and services will meet the independent living needs of people
  with&amp;hellip\;
CATEGORIES:General,  SPIL
URL;VALUE=URI:https://masilc.org/mc-events/spil-public-hearing/
METHOD:PUBLISH
END:VEVENT
END:VCALENDAR