BEGIN:VCALENDAR
VERSION:2.0
PRODID:spatie/icalendar-generator
DESCRIPTION:Events from MASILC
X-WR-CALDESC:Events from MASILC
REFRESH-INTERVAL;VALUE=DURATION:PT1440M
X-PUBLISHED-TTL:PT1440M
BEGIN:VTIMEZONE
TZID:Etc/GMT+0
BEGIN:STANDARD
DTSTART:20230716T140000Z
TZOFFSETFROM:+0000
TZOFFSETTO:+0000
END:STANDARD
END:VTIMEZONE
BEGIN:VTIMEZONE
TZID:UTC
BEGIN:STANDARD
DTSTART:20250725T102946Z
TZOFFSETFROM:+0000
TZOFFSETTO:+0000
END:STANDARD
END:VTIMEZONE
BEGIN:VEVENT
UID:110-71
DTSTAMP:20260421T102946Z
SUMMARY:PIE Committee
LOCATION:
ORGANIZER;CN=Aliza Levine:MAILTO:alevine@masilc.org
DTSTART;TZID=Etc/GMT+0:20240411T140000
DTEND;TZID=Etc/GMT+0:20240411T150000
X-ALT-DESC;FMTTYPE=TEXT/HTML:April 11\, 2024 2:00 PM This is a virtual publ
 ic zoom meeting Public Meeting Notice Agenda: Debrief of IL Education Day 
 Advocacy updates from Centers for Independent Living &amp;nbsp\; To Join Zoom 
 Meeting: https://us02web.zoom.us/j/4376289630 &amp;nbsp\; Dial by your locatio
 n 1 301 715 8592 US (Washington DC) 1 312 626 6799 US (Chicago) &amp;nbsp\; To
  request&amp;hellip\;
CATEGORIES:PIE
URL;VALUE=URI:https://masilc.org/mc-events/pie-committee/
METHOD:PUBLISH
END:VEVENT
END:VCALENDAR