BEGIN:VCALENDAR
VERSION:2.0
PRODID:spatie/icalendar-generator
DESCRIPTION:Events from MASILC
X-WR-CALDESC:Events from MASILC
REFRESH-INTERVAL;VALUE=DURATION:PT1440M
X-PUBLISHED-TTL:PT1440M
BEGIN:VTIMEZONE
TZID:Etc/GMT+0
BEGIN:STANDARD
DTSTART:20231111T100000Z
TZOFFSETFROM:+0000
TZOFFSETTO:+0000
END:STANDARD
END:VTIMEZONE
BEGIN:VTIMEZONE
TZID:UTC
BEGIN:STANDARD
DTSTART:20250725T102630Z
TZOFFSETFROM:+0000
TZOFFSETTO:+0000
END:STANDARD
END:VTIMEZONE
BEGIN:VEVENT
UID:126-87
DTSTAMP:20260421T102630Z
SUMMARY:Nominations and Development Committee
LOCATION:
ORGANIZER;CN=Aliza Levine:MAILTO:alevine@masilc.org
DTSTART;TZID=Etc/GMT+0:20240807T100000
DTEND;TZID=Etc/GMT+0:20240807T110000
X-ALT-DESC;FMTTYPE=TEXT/HTML:This is a virtual public zoom meeting &amp;nbsp\; 
 Agenda: Approval of minutes MASILC Appointments report Review of nominees 
 Yacine Ndiaye Desiree Forte Outreach MRC Explore Possibilities Summit Trai
 ning Officer Roles &amp;amp\; Responsibilities: August 14th\, 12-1 and August 
 19th deadline for nominations IL Conference September 17th Inviting new SI
 LC members to nominations meetings Next training –&amp;hellip\;
CATEGORIES:Nominations and Development
URL;VALUE=URI:https://masilc.org/mc-events/nominations-and-development-comm
 ittee-14/
METHOD:PUBLISH
END:VEVENT
END:VCALENDAR