BEGIN:VCALENDAR
VERSION:2.0
PRODID:spatie/icalendar-generator
DESCRIPTION:Events from MASILC
X-WR-CALDESC:Events from MASILC
REFRESH-INTERVAL;VALUE=DURATION:PT1440M
X-PUBLISHED-TTL:PT1440M
BEGIN:VTIMEZONE
TZID:Etc/GMT+0
BEGIN:STANDARD
DTSTART:20231217T140000Z
TZOFFSETFROM:+0000
TZOFFSETTO:+0000
END:STANDARD
END:VTIMEZONE
BEGIN:VTIMEZONE
TZID:UTC
BEGIN:STANDARD
DTSTART:20250724T120123Z
TZOFFSETFROM:+0000
TZOFFSETTO:+0000
END:STANDARD
END:VTIMEZONE
BEGIN:VEVENT
UID:135-96
DTSTAMP:20260420T120123Z
SUMMARY:PIE Committee
LOCATION:
ORGANIZER;CN=Aliza Levine:MAILTO:alevine@masilc.org
DTSTART;TZID=Etc/GMT+0:20240912T140000
DTEND;TZID=Etc/GMT+0:20240912T150000
X-ALT-DESC;FMTTYPE=TEXT/HTML:This is a virtual public zoom meeting Public M
 eeting Notice Agenda: Advocacy updates from Centers for Independent Living
  Status of legislation Mass Access Bill Housing Bond Bill Spouses as Paid 
 Caregivers Estate Recovery MassHealth Independent Assessment Entity  Qual
 ified Allocation Plan 2)    Preferred date for IL Education Day in Mar
 ch &amp;nbsp\; To Join Zoom Meeting: https://us02web.zoom.us/j/4376289630 &amp;nbs
 p\;&amp;hellip\;
CATEGORIES:PIE
URL;VALUE=URI:https://masilc.org/mc-events/pie-committee-5/
METHOD:PUBLISH
END:VEVENT
END:VCALENDAR