BEGIN:VCALENDAR
VERSION:2.0
PRODID:spatie/icalendar-generator
DESCRIPTION:Events from MASILC
X-WR-CALDESC:Events from MASILC
REFRESH-INTERVAL;VALUE=DURATION:PT1440M
X-PUBLISHED-TTL:PT1440M
BEGIN:VTIMEZONE
TZID:Etc/GMT+0
BEGIN:STANDARD
DTSTART:20240420T140000Z
TZOFFSETFROM:+0000
TZOFFSETTO:+0000
END:STANDARD
END:VTIMEZONE
BEGIN:VTIMEZONE
TZID:UTC
BEGIN:STANDARD
DTSTART:20250728T063424Z
TZOFFSETFROM:+0000
TZOFFSETTO:+0000
END:STANDARD
END:VTIMEZONE
BEGIN:VEVENT
UID:160-118
DTSTAMP:20260424T063424Z
SUMMARY:Executive Committee
LOCATION:
ORGANIZER;CN=Aliza Levine:MAILTO:alevine@masilc.org
DTSTART;TZID=Etc/GMT+0:20250115T140000
DTEND;TZID=Etc/GMT+0:20250115T150000
X-ALT-DESC;FMTTYPE=TEXT/HTML:Agenda: Approval of minutes Chair’s Report R
 ecommendation to appoint Desi Forte as Vice Chair Treasurer’s Report Nom
 inations and Development Report Public Information Committee Report SPIL C
 ommittee Report Coordinators Report DSE updates To Join Zoom Meeting: http
 s://us02web.zoom.us/j/4376289630 &amp;nbsp\; Dial by your location 1 301 715 8
 592 US (Washington DC) 1 312 626 6799 US (Chicago) &amp;nbsp\;&amp;hellip\;
CATEGORIES:Executive
URL;VALUE=URI:https://masilc.org/mc-events/executive-committee-21/
METHOD:PUBLISH
END:VEVENT
END:VCALENDAR