BEGIN:VCALENDAR
VERSION:2.0
PRODID:spatie/icalendar-generator
DESCRIPTION:Events from MASILC
X-WR-CALDESC:Events from MASILC
REFRESH-INTERVAL;VALUE=DURATION:PT1440M
X-PUBLISHED-TTL:PT1440M
BEGIN:VTIMEZONE
TZID:Etc/GMT+0
BEGIN:STANDARD
DTSTART:20241114T130000Z
TZOFFSETFROM:+0000
TZOFFSETTO:+0000
END:STANDARD
END:VTIMEZONE
BEGIN:VTIMEZONE
TZID:UTC
BEGIN:STANDARD
DTSTART:20250725T103046Z
TZOFFSETFROM:+0000
TZOFFSETTO:+0000
END:STANDARD
END:VTIMEZONE
BEGIN:VEVENT
UID:192-149
DTSTAMP:20260421T103046Z
SUMMARY:Finance Committee
LOCATION:
ORGANIZER;CN=Aliza Levine:MAILTO:alevine@masilc.org
DTSTART;TZID=Etc/GMT+0:20250811T130000
DTEND;TZID=Etc/GMT+0:20250811T140000
X-ALT-DESC;FMTTYPE=TEXT/HTML:This is a virtual public zoom meeting Public M
 eeting Notice Agenda: Approval of May 2025 minutes Review updated FFY2025 
 Final Budget Review of FFY2025 3rd Quarter Report Draft FFY 2026 Budget Re
 view of Financial Policies &amp;nbsp\; To Join Zoom Meeting: https://us02web.z
 oom.us/j/4376289630 Meeting ID: 437 628 9630 &amp;nbsp\; Dial by your location
  1 301 715 8592&amp;hellip\;
CATEGORIES:Finance
URL;VALUE=URI:https://masilc.org/mc-events/finance-committee-7/
METHOD:PUBLISH
END:VEVENT
END:VCALENDAR