BEGIN:VCALENDAR
VERSION:2.0
PRODID:spatie/icalendar-generator
DESCRIPTION:Events from MASILC
X-WR-CALDESC:Events from MASILC
REFRESH-INTERVAL;VALUE=DURATION:PT1440M
X-PUBLISHED-TTL:PT1440M
BEGIN:VTIMEZONE
TZID:Etc/GMT+0
BEGIN:STANDARD
DTSTART:20221230T083000Z
TZOFFSETFROM:+0000
TZOFFSETTO:+0000
END:STANDARD
END:VTIMEZONE
BEGIN:VTIMEZONE
TZID:UTC
BEGIN:STANDARD
DTSTART:20250725T085838Z
TZOFFSETFROM:+0000
TZOFFSETTO:+0000
END:STANDARD
END:VTIMEZONE
BEGIN:VEVENT
UID:20-16
DTSTAMP:20260421T085838Z
SUMMARY:2023 Independent Living Conference
LOCATION:Best Western Royal Plaza Hotel &amp;amp\; Trade Center 181 Boston Post
  Rd W  Marlborough MA  01752
ORGANIZER;CN=Aliza Levine:MAILTO:alevine@masilc.org
DTSTART;TZID=Etc/GMT+0:20230926T083000
DTEND;TZID=Etc/GMT+0:20230926T153000
X-ALT-DESC;FMTTYPE=TEXT/HTML:Visit the 2023 Conference event page to learn 
 more
CATEGORIES:General
URL;VALUE=URI:https://masilc.org/mc-events/2023-independent-living-conferen
 ce/
METHOD:PUBLISH
END:VEVENT
END:VCALENDAR