BEGIN:VCALENDAR
VERSION:2.0
PRODID:spatie/icalendar-generator
DESCRIPTION:Events from MASILC
X-WR-CALDESC:Events from MASILC
REFRESH-INTERVAL;VALUE=DURATION:PT1440M
X-PUBLISHED-TTL:PT1440M
BEGIN:VTIMEZONE
TZID:Etc/GMT+0
BEGIN:STANDARD
DTSTART:20220618T140000Z
TZOFFSETFROM:+0000
TZOFFSETTO:+0000
END:STANDARD
END:VTIMEZONE
BEGIN:VTIMEZONE
TZID:UTC
BEGIN:STANDARD
DTSTART:20250725T043700Z
TZOFFSETFROM:+0000
TZOFFSETTO:+0000
END:STANDARD
END:VTIMEZONE
BEGIN:VEVENT
UID:6-6
DTSTAMP:20260421T043700Z
SUMMARY:Executive Committee
LOCATION:
ORGANIZER;CN=admin:MAILTO:srorke@mwcil.org
DTSTART;TZID=Etc/GMT+0:20230315T140000
DTEND;TZID=Etc/GMT+0:20230315T150000
X-ALT-DESC;FMTTYPE=TEXT/HTML:Public Meeting Notice Agenda:  Approval of mi
 nutes  Chair’s Report appointment of interim Secretary and SPIL Chair 
  Treasurer’s Report Nominations and Development Report Public Informati
 on Committee Report SPIL Committee Report Coordinators Report DSE updates 
 To Join Zoom Meeting: https://us02web.zoom.us/j/4376289630  Dial by your
  location 1 301 715 8592 US (Washington DC) 1 312 626 6799 US (Chicago) To
 &amp;hellip\;
CATEGORIES:Executive
URL;VALUE=URI:https://masilc.org/mc-events/executive-committee-2/
METHOD:PUBLISH
END:VEVENT
END:VCALENDAR