BEGIN:VCALENDAR
VERSION:2.0
PRODID:spatie/icalendar-generator
DESCRIPTION:Events from MASILC
X-WR-CALDESC:Events from MASILC
REFRESH-INTERVAL;VALUE=DURATION:PT1440M
X-PUBLISHED-TTL:PT1440M
BEGIN:VTIMEZONE
TZID:Etc/GMT+0
BEGIN:STANDARD
DTSTART:20230119T133000Z
TZOFFSETFROM:+0000
TZOFFSETTO:+0000
END:STANDARD
END:VTIMEZONE
BEGIN:VTIMEZONE
TZID:UTC
BEGIN:STANDARD
DTSTART:20250726T085135Z
TZOFFSETFROM:+0000
TZOFFSETTO:+0000
END:STANDARD
END:VTIMEZONE
BEGIN:VEVENT
UID:64-33
DTSTAMP:20260422T085135Z
SUMMARY:SPIL Committee Meeting
LOCATION:
ORGANIZER;CN=Aliza Levine:MAILTO:alevine@masilc.org
DTSTART;TZID=Etc/GMT+0:20231016T133000
DTEND;TZID=Etc/GMT+0:20231016T143000
X-ALT-DESC;FMTTYPE=TEXT/HTML:This is a virtual public zoom meeting Agenda G
 athering public input Reportback of SPIL postcards at SILC Conference Surv
 eys for IL Directors and consumers Listening session(s) in November Postca
 rds What else do we need to do to reach unserved and underserved groups? P
 lan to check in on goals set in the FY 2021-2024 SPIL Transportation&amp;helli
 p\;
CATEGORIES:SPIL
URL;VALUE=URI:https://masilc.org/mc-events/spil-committee-meeting-4/
METHOD:PUBLISH
END:VEVENT
END:VCALENDAR