BEGIN:VCALENDAR
VERSION:2.0
PRODID:spatie/icalendar-generator
DESCRIPTION:Events from MASILC
X-WR-CALDESC:Events from MASILC
REFRESH-INTERVAL;VALUE=DURATION:PT1440M
X-PUBLISHED-TTL:PT1440M
BEGIN:VTIMEZONE
TZID:Etc/GMT+0
BEGIN:STANDARD
DTSTART:20230601T133000Z
TZOFFSETFROM:+0000
TZOFFSETTO:+0000
END:STANDARD
END:VTIMEZONE
BEGIN:VTIMEZONE
TZID:UTC
BEGIN:STANDARD
DTSTART:20250724T102000Z
TZOFFSETFROM:+0000
TZOFFSETTO:+0000
END:STANDARD
END:VTIMEZONE
BEGIN:VEVENT
UID:94-54
DTSTAMP:20260420T102000Z
SUMMARY:SPIL Committee
LOCATION:
ORGANIZER;CN=Aliza Levine:MAILTO:alevine@masilc.org
DTSTART;TZID=Etc/GMT+0:20240226T133000
DTEND;TZID=Etc/GMT+0:20240226T143000
X-ALT-DESC;FMTTYPE=TEXT/HTML:This is a virtual public zoom meeting Agenda F
 inalizing SPIL Goals\, Activities and Indicators SPIL Process next steps S
 PIL Drafting: schedule several meeting dates in March to edit SPIL section
 s Scheduling April public hearing on SPIL May: SPIL revisions based on pub
 lic input If time allows: Discuss section 1.4: SPIL Evaluation To Join Zoo
 m Meeting: https://us02web.zoom.us/j/4376289630&amp;hellip\;
CATEGORIES:SPIL
URL;VALUE=URI:https://masilc.org/mc-events/spil-committee-2/
METHOD:PUBLISH
END:VEVENT
END:VCALENDAR