BEGIN:VCALENDAR
VERSION:2.0
PRODID:spatie/icalendar-generator
DESCRIPTION:Events from MASILC
X-WR-CALDESC:Events from MASILC
REFRESH-INTERVAL;VALUE=DURATION:PT1440M
X-PUBLISHED-TTL:PT1440M
BEGIN:VTIMEZONE
TZID:Etc/GMT+0
BEGIN:STANDARD
DTSTART:20230615T133000Z
TZOFFSETFROM:+0000
TZOFFSETTO:+0000
END:STANDARD
END:VTIMEZONE
BEGIN:VTIMEZONE
TZID:UTC
BEGIN:STANDARD
DTSTART:20250725T085158Z
TZOFFSETFROM:+0000
TZOFFSETTO:+0000
END:STANDARD
END:VTIMEZONE
BEGIN:VEVENT
UID:101-55
DTSTAMP:20260421T085158Z
SUMMARY:SPIL Committee - SPIL Drafting
LOCATION:
ORGANIZER;CN=Aliza Levine:MAILTO:alevine@masilc.org
DTSTART;TZID=Etc/GMT+0:20240311T133000
DTEND;TZID=Etc/GMT+0:20240311T153000
X-ALT-DESC;FMTTYPE=TEXT/HTML:This is a virtual public zoom meeting Agenda S
 PIL Drafting To Join Zoom Meeting: https://us02web.zoom.us/j/4376289630 D
 ial by your location 1 301 715 8592 US (Washington DC) 1 312 626 6799 US (
 Chicago) To request or confirm communication access or other accommodation
 s please contact alevine@masilc.org or 508-620-7452 at least 2 weeks befor
 e the meeting. Meeting posted 2/29/24&amp;hellip\;
CATEGORIES:SPIL
URL;VALUE=URI:https://masilc.org/mc-events/spil-committee-spil-drafting-3/
METHOD:PUBLISH
END:VEVENT
END:VCALENDAR