BEGIN:VCALENDAR
VERSION:2.0
PRODID:spatie/icalendar-generator
DESCRIPTION:Events from MASILC
X-WR-CALDESC:Events from MASILC
REFRESH-INTERVAL;VALUE=DURATION:PT1440M
X-PUBLISHED-TTL:PT1440M
BEGIN:VTIMEZONE
TZID:Etc/GMT+0
BEGIN:STANDARD
DTSTART:20240216T130000Z
TZOFFSETFROM:+0000
TZOFFSETTO:+0000
END:STANDARD
END:VTIMEZONE
BEGIN:VTIMEZONE
TZID:UTC
BEGIN:STANDARD
DTSTART:20250724T120258Z
TZOFFSETFROM:+0000
TZOFFSETTO:+0000
END:STANDARD
END:VTIMEZONE
BEGIN:VEVENT
UID:139-99
DTSTAMP:20260420T120258Z
SUMMARY:Finance Committee
LOCATION:
ORGANIZER;CN=Aliza Levine:MAILTO:alevine@masilc.org
DTSTART;TZID=Etc/GMT+0:20241112T130000
DTEND;TZID=Etc/GMT+0:20241112T140000
X-ALT-DESC;FMTTYPE=TEXT/HTML:This is a virtual public zoom meeting Public M
 eeting Notice Agenda: Approval of August 2024 minutes Review of FFY2024 4t
 h Quarter Report Check in on FFY 2025 Budget To Join Zoom Meeting: https:/
 /us02web.zoom.us/j/4376289630 Meeting ID: 437 628 9630 &amp;nbsp\; Dial by you
 r location 1 301 715 8592 US (Washington DC) 1 312 626 6799 US&amp;hellip\;
CATEGORIES:Finance
URL;VALUE=URI:https://masilc.org/mc-events/finance-committee-5/
METHOD:PUBLISH
END:VEVENT
END:VCALENDAR