BEGIN:VCALENDAR
VERSION:2.0
PRODID:spatie/icalendar-generator
DESCRIPTION:Events from MASILC
X-WR-CALDESC:Events from MASILC
REFRESH-INTERVAL;VALUE=DURATION:PT1440M
X-PUBLISHED-TTL:PT1440M
BEGIN:VTIMEZONE
TZID:Etc/GMT+0
BEGIN:STANDARD
DTSTART:20240309T100000Z
TZOFFSETFROM:+0000
TZOFFSETTO:+0000
END:STANDARD
END:VTIMEZONE
BEGIN:VTIMEZONE
TZID:UTC
BEGIN:STANDARD
DTSTART:20250724T103959Z
TZOFFSETFROM:+0000
TZOFFSETTO:+0000
END:STANDARD
END:VTIMEZONE
BEGIN:VEVENT
UID:140-100
DTSTAMP:20260420T103959Z
SUMMARY:Nominations and Development Committee
LOCATION:
ORGANIZER;CN=Aliza Levine:MAILTO:alevine@masilc.org
DTSTART;TZID=Etc/GMT+0:20241204T100000
DTEND;TZID=Etc/GMT+0:20241204T110000
X-ALT-DESC;FMTTYPE=TEXT/HTML:This is a virtual public zoom meeting &amp;nbsp\; 
 Agenda: Approval of minutes MASILC Appointments report Review of nominees 
 Outreach Training &amp;nbsp\; To Join Zoom Meeting: https://us02web.zoom.us/j/
 4376289630 Dial by your location 1 301 715 8592 US (Washington DC) 1 312 6
 26 6799 US (Chicago) To request or confirm communication access or other a
 ccommodations please contact alevine@masilc.org&amp;hellip\;
CATEGORIES:Nominations and Development
URL;VALUE=URI:https://masilc.org/mc-events/nominations-and-development-comm
 ittee-16/
METHOD:PUBLISH
END:VEVENT
END:VCALENDAR