BEGIN:VCALENDAR
VERSION:2.0
PRODID:spatie/icalendar-generator
DESCRIPTION:Events from MASILC
X-WR-CALDESC:Events from MASILC
REFRESH-INTERVAL;VALUE=DURATION:PT1440M
X-PUBLISHED-TTL:PT1440M
BEGIN:VTIMEZONE
TZID:Etc/GMT+0
BEGIN:STANDARD
DTSTART:20240414T140000Z
TZOFFSETFROM:+0000
TZOFFSETTO:+0000
END:STANDARD
END:VTIMEZONE
BEGIN:VTIMEZONE
TZID:UTC
BEGIN:STANDARD
DTSTART:20250725T085127Z
TZOFFSETFROM:+0000
TZOFFSETTO:+0000
END:STANDARD
END:VTIMEZONE
BEGIN:VEVENT
UID:154-114
DTSTAMP:20260421T085127Z
SUMMARY:Public Information &amp;amp\; Education Committee
LOCATION:
ORGANIZER;CN=Aliza Levine:MAILTO:alevine@masilc.org
DTSTART;TZID=Etc/GMT+0:20250109T140000
DTEND;TZID=Etc/GMT+0:20250109T150000
X-ALT-DESC;FMTTYPE=TEXT/HTML:This is a virtual public zoom meeting Public M
 eeting Notice Agenda: Welcomes &amp;amp\; Introductions Advocacy updates from 
 Centers for Independent Living and allies IL Education Day Planning – Ap
 ril 2\, 2025 Decide on key legislation/budget items/issues: Budget issues:
  IL Funding\, maintain PCA program funding\, Housing funding (AHVP\, other
 s)\, RTA Funding? Legislation: AAB\, Spouses as Paid&amp;hellip\;
CATEGORIES:PIE
URL;VALUE=URI:https://masilc.org/mc-events/public-information-education-com
 mittee-3/
METHOD:PUBLISH
END:VEVENT
END:VCALENDAR