BEGIN:VCALENDAR
VERSION:2.0
PRODID:spatie/icalendar-generator
DESCRIPTION:Events from MASILC
X-WR-CALDESC:Events from MASILC
REFRESH-INTERVAL;VALUE=DURATION:PT1440M
X-PUBLISHED-TTL:PT1440M
BEGIN:VTIMEZONE
TZID:Etc/GMT+0
BEGIN:STANDARD
DTSTART:20240810T100000Z
TZOFFSETFROM:+0000
TZOFFSETTO:+0000
END:STANDARD
END:VTIMEZONE
BEGIN:VTIMEZONE
TZID:UTC
BEGIN:STANDARD
DTSTART:20250725T120404Z
TZOFFSETFROM:+0000
TZOFFSETTO:+0000
END:STANDARD
END:VTIMEZONE
BEGIN:VEVENT
UID:176-134
DTSTAMP:20260421T120404Z
SUMMARY:Nominations Committee
LOCATION:
ORGANIZER;CN=Aliza Levine:MAILTO:alevine@masilc.org
DTSTART;TZID=Etc/GMT+0:20250507T100000
DTEND;TZID=Etc/GMT+0:20250507T110000
X-ALT-DESC;FMTTYPE=TEXT/HTML:This is a virtual public zoom meeting &amp;nbsp\; 
 Approval of minutes MASILC Appointments report Upcoming term expirations R
 eview of nominees Outreach Developing outreach plan Training Adding traini
 ngs and recordings to the website? May 22: What is the SPIL and why is it 
 important – with Jessica Podevsa June 11th – Quarterly: MDDC Plan for 
 summer&amp;hellip\;
CATEGORIES:Nominations and Development
URL;VALUE=URI:https://masilc.org/mc-events/nominations-committee-2/
METHOD:PUBLISH
END:VEVENT
END:VCALENDAR