BEGIN:VCALENDAR
VERSION:2.0
PRODID:spatie/icalendar-generator
DESCRIPTION:Events from MASILC
X-WR-CALDESC:Events from MASILC
REFRESH-INTERVAL;VALUE=DURATION:PT1440M
X-PUBLISHED-TTL:PT1440M
BEGIN:VTIMEZONE
TZID:Etc/GMT+0
BEGIN:STANDARD
DTSTART:20240811T130000Z
TZOFFSETFROM:+0000
TZOFFSETTO:+0000
END:STANDARD
END:VTIMEZONE
BEGIN:VTIMEZONE
TZID:UTC
BEGIN:STANDARD
DTSTART:20250724T085730Z
TZOFFSETFROM:+0000
TZOFFSETTO:+0000
END:STANDARD
END:VTIMEZONE
BEGIN:VEVENT
UID:181-139
DTSTAMP:20260420T085730Z
SUMMARY:Public Information &amp;amp\; Education Committee
LOCATION:
ORGANIZER;CN=Aliza Levine:MAILTO:alevine@masilc.org
DTSTART;TZID=Etc/GMT+0:20250508T130000
DTEND;TZID=Etc/GMT+0:20250508T140000
X-ALT-DESC;FMTTYPE=TEXT/HTML:This is a virtual public zoom meeting Public M
 eeting Notice Agenda: Welcomes &amp;amp\; Introductions Advocacy updates from 
 Centers for Independent Living and allies &amp;nbsp\; &amp;nbsp\; To Join Zoom Mee
 ting: https://us02web.zoom.us/j/4376289630 &amp;nbsp\; Dial by your location 1
  301 715 8592 US (Washington DC) 1 312 626 6799 US (Chicago) &amp;nbsp\; To re
 quest or confirm communication access&amp;hellip\;
CATEGORIES:PIE
URL;VALUE=URI:https://masilc.org/mc-events/public-information-education-com
 mittee-7/
METHOD:PUBLISH
END:VEVENT
END:VCALENDAR