BEGIN:VCALENDAR
VERSION:2.0
PRODID:spatie/icalendar-generator
DESCRIPTION:Events from MASILC
X-WR-CALDESC:Events from MASILC
REFRESH-INTERVAL;VALUE=DURATION:PT1440M
X-PUBLISHED-TTL:PT1440M
BEGIN:VTIMEZONE
TZID:Etc/GMT+0
BEGIN:STANDARD
DTSTART:20241117T130000Z
TZOFFSETFROM:+0000
TZOFFSETTO:+0000
END:STANDARD
END:VTIMEZONE
BEGIN:VTIMEZONE
TZID:UTC
BEGIN:STANDARD
DTSTART:20250725T115551Z
TZOFFSETFROM:+0000
TZOFFSETTO:+0000
END:STANDARD
END:VTIMEZONE
BEGIN:VEVENT
UID:197-154
DTSTAMP:20260421T115551Z
SUMMARY:Public Information &amp;amp\; Education Committee
LOCATION:
ORGANIZER;CN=Aliza Levine:MAILTO:alevine@masilc.org
DTSTART;TZID=Etc/GMT+0:20250814T130000
DTEND;TZID=Etc/GMT+0:20250814T140000
X-ALT-DESC;FMTTYPE=TEXT/HTML:August 14\, 2025 1:00 PM This is a virtual pub
 lic zoom meeting Public Meeting Notice Agenda: Welcomes &amp;amp\; Introductio
 ns Advocacy updates from Centers for Independent Living and allies Healthc
 are Shield Law https://malegislature.gov/Bills/194/S2543/BillHistory Discu
 ss MASILC Representative on proposed Commission to study and report on the
  volume of disability rights denial cases in Massachusetts An Act Relative
 &amp;hellip\;
CATEGORIES:PIE
URL;VALUE=URI:https://masilc.org/mc-events/public-information-education-com
 mittee-9/
METHOD:PUBLISH
END:VEVENT
END:VCALENDAR