BEGIN:VCALENDAR
VERSION:2.0
PRODID:spatie/icalendar-generator
DESCRIPTION:Events from MASILC
X-WR-CALDESC:Events from MASILC
REFRESH-INTERVAL;VALUE=DURATION:PT1440M
X-PUBLISHED-TTL:PT1440M
BEGIN:VTIMEZONE
TZID:Etc/GMT+0
BEGIN:STANDARD
DTSTART:20221111T130000Z
TZOFFSETFROM:+0000
TZOFFSETTO:+0000
END:STANDARD
END:VTIMEZONE
BEGIN:VTIMEZONE
TZID:UTC
BEGIN:STANDARD
DTSTART:20250725T102137Z
TZOFFSETFROM:+0000
TZOFFSETTO:+0000
END:STANDARD
END:VTIMEZONE
BEGIN:VEVENT
UID:22-18
DTSTAMP:20260421T102137Z
SUMMARY:Finance Committee
LOCATION:
ORGANIZER;CN=Aliza Levine:MAILTO:alevine@masilc.org
DTSTART;TZID=Etc/GMT+0:20230808T130000
DTEND;TZID=Etc/GMT+0:20230808T140000
X-ALT-DESC;FMTTYPE=TEXT/HTML:This is a virtual public zoom meeting Public M
 eeting Notice Agenda: Approval of February 2023 minutes Review of NCIL tra
 vel expenses Review of FFY2023 3rd Quarter Report Develop draft FY2024 Bud
 get To Join Zoom Meeting: https://us02web.zoom.us/j/4376289630 &amp;nbsp\; Dia
 l by your location 1 301 715 8592 US (Washington DC) 1 312 626 6799 US (Ch
 icago) &amp;nbsp\;&amp;hellip\;
CATEGORIES:Finance
URL;VALUE=URI:https://masilc.org/mc-events/finance-committee/
METHOD:PUBLISH
END:VEVENT
END:VCALENDAR