BEGIN:VCALENDAR
VERSION:2.0
PRODID:spatie/icalendar-generator
DESCRIPTION:Events from MASILC
X-WR-CALDESC:Events from MASILC
REFRESH-INTERVAL;VALUE=DURATION:PT1440M
X-PUBLISHED-TTL:PT1440M
BEGIN:VTIMEZONE
TZID:Etc/GMT+0
BEGIN:STANDARD
DTSTART:20250921T133000Z
TZOFFSETFROM:+0000
TZOFFSETTO:+0000
END:STANDARD
END:VTIMEZONE
BEGIN:VTIMEZONE
TZID:UTC
BEGIN:STANDARD
DTSTART:20250725T191135Z
TZOFFSETFROM:+0000
TZOFFSETTO:+0000
END:STANDARD
END:VTIMEZONE
BEGIN:VEVENT
UID:272-208
DTSTAMP:20260421T191135Z
SUMMARY:State Plan Listening Session
LOCATION:
ORGANIZER;CN=Aliza Levine:MAILTO:alevine@masilc.org
DTSTART;TZID=Etc/GMT+0:20260618T133000
DTEND;TZID=Etc/GMT+0:20260618T143000
X-ALT-DESC;FMTTYPE=TEXT/HTML:The Massachusetts Statewide Independent Living
  Council (MASILC) wants to know what is most important to people with disa
 bilities\, their families\, and their communities. This listening session 
 will help set the direction for the next State Plan for Independent Living
 . &amp;nbsp\; Thursday\, June 18\, 2026\, 1:30 pm – 3:00 pm Stavros Center f
 or Independent Living\, 227&amp;hellip\;
CATEGORIES:General,  SPIL
URL;VALUE=URI:https://masilc.org/mc-events/state-plan-listening-session/
METHOD:PUBLISH
END:VEVENT
END:VCALENDAR