BEGIN:VCALENDAR
VERSION:2.0
PRODID:spatie/icalendar-generator
DESCRIPTION:Events from MASILC
X-WR-CALDESC:Events from MASILC
REFRESH-INTERVAL;VALUE=DURATION:PT1440M
X-PUBLISHED-TTL:PT1440M
BEGIN:VTIMEZONE
TZID:Etc/GMT+0
BEGIN:STANDARD
DTSTART:20220702T130000Z
TZOFFSETFROM:+0000
TZOFFSETTO:+0000
END:STANDARD
END:VTIMEZONE
BEGIN:VTIMEZONE
TZID:UTC
BEGIN:STANDARD
DTSTART:20250725T085057Z
TZOFFSETFROM:+0000
TZOFFSETTO:+0000
END:STANDARD
END:VTIMEZONE
BEGIN:VEVENT
UID:5-5
DTSTAMP:20260421T085057Z
SUMMARY:MASILC Quarterly Meeting
LOCATION:
ORGANIZER;CN=admin:MAILTO:srorke@mwcil.org
DTSTART;TZID=Etc/GMT+0:20230329T130000
DTEND;TZID=Etc/GMT+0:20230329T160000
X-ALT-DESC;FMTTYPE=TEXT/HTML:Virtual Public Meeting Agenda Welcome and roll
  call   DPH Health and Disability Program   Client Assistance Program 
 – Massachusetts Office on Disability PM Review and approval of December 
 2022 Minutes Committee and Staff Reports Chairs Report Appointment of Inte
 rim Secretary and SPIL Chairperson Treasurer’s Report FFY23 – 1st Quar
 ter Report Nominations and Development Report&amp;hellip\;
CATEGORIES:General,  ADA Day
URL;VALUE=URI:https://masilc.org/mc-events/masilc-quarterly-meeting/
METHOD:PUBLISH
END:VEVENT
END:VCALENDAR